BEGIN:VCALENDAR
VERSION:2.0
PRODID:-//Plone.org//NONSGML plone.app.event//EN
X-WR-TIMEZONE:US/Central
BEGIN:VEVENT
SUMMARY:Saturday Storytime
DTSTART;TZID=US/Central:20231021T110000
DTEND;TZID=US/Central:20231021T120000
DTSTAMP:20260421T124423Z
UID:992fe8419eb64b798380f1da34213b52@saas_stack_varnish:6080
CREATED:20231017T173152Z
LAST-MODIFIED:20231017T173204Z
LOCATION:Lebanon-Laclede County Library
URL:https://lebanon-laclede.ploud.net/calendar-news/events/saturday-storyt
 ime-1
END:VEVENT
BEGIN:VTIMEZONE
TZID:US/Central
X-LIC-LOCATION:US/Central
BEGIN:DAYLIGHT
DTSTART:20230312T030000
TZNAME:CDT
TZOFFSETFROM:-0600
TZOFFSETTO:-0500
END:DAYLIGHT
END:VTIMEZONE
END:VCALENDAR
