BEGIN:VCALENDAR
VERSION:2.0
PRODID:-//Plone.org//NONSGML plone.app.event//EN
X-WR-TIMEZONE:US/Central
BEGIN:VEVENT
SUMMARY:Saturday Storytime
DTSTART;TZID=US/Central:20240713T103000
DTEND;TZID=US/Central:20240713T113000
DTSTAMP:20260421T215655Z
UID:15e683de081a4ced9a924c22e4d0d40f@saas_stack_varnish:6080
CREATED:20240629T153041Z
LAST-MODIFIED:20240629T153047Z
URL:https://lebanon-laclede.ploud.net/calendar-news/events/saturday-storyt
 ime-3
END:VEVENT
BEGIN:VTIMEZONE
TZID:US/Central
X-LIC-LOCATION:US/Central
BEGIN:DAYLIGHT
DTSTART:20240310T030000
TZNAME:CDT
TZOFFSETFROM:-0600
TZOFFSETTO:-0500
END:DAYLIGHT
END:VTIMEZONE
END:VCALENDAR
