BEGIN:VCALENDAR
VERSION:2.0
PRODID:-//Plone.org//NONSGML plone.app.event//EN
X-WR-TIMEZONE:US/Central
BEGIN:VEVENT
SUMMARY:Scholastic Book Fair
DTSTART;TZID=US/Central:20250530T100000
DTEND;TZID=US/Central:20250609T200000
DTSTAMP:20260421T171701Z
UID:0aa74b12b6a247b7a503bd8e83f4e0c6@saas_stack_varnish:6080
CREATED:20250507T183634Z
LAST-MODIFIED:20250507T183640Z
URL:https://lebanon-laclede.ploud.net/calendar-news/events/scholastic-book
 -fair
END:VEVENT
BEGIN:VTIMEZONE
TZID:US/Central
X-LIC-LOCATION:US/Central
BEGIN:DAYLIGHT
DTSTART:20250309T030000
TZNAME:CDT
TZOFFSETFROM:-0600
TZOFFSETTO:-0500
END:DAYLIGHT
END:VTIMEZONE
END:VCALENDAR
