BEGIN:VCALENDAR
VERSION:2.0
PRODID:-//Plone.org//NONSGML plone.app.event//EN
X-WR-TIMEZONE:US/Central
BEGIN:VEVENT
SUMMARY:Seed Swap
DTSTART;TZID=US/Central:20250315T100000
DTEND;TZID=US/Central:20250315T120000
DTSTAMP:20260421T202532Z
UID:f7509476eb22488fb6bde0ec103484a1@saas_stack_varnish:6080
CREATED:20250226T012206Z
LAST-MODIFIED:20250226T012217Z
URL:https://lebanon-laclede.ploud.net/calendar-news/events/seed-swap
END:VEVENT
BEGIN:VTIMEZONE
TZID:US/Central
X-LIC-LOCATION:US/Central
BEGIN:DAYLIGHT
DTSTART:20250309T030000
TZNAME:CDT
TZOFFSETFROM:-0600
TZOFFSETTO:-0500
END:DAYLIGHT
END:VTIMEZONE
END:VCALENDAR
