BEGIN:VCALENDAR
VERSION:2.0
PRODID:-//Plone.org//NONSGML plone.app.event//EN
X-WR-TIMEZONE:US/Central
BEGIN:VEVENT
SUMMARY:Si Siman\, the Ozark Jubilee\, and Music Business at the Crossroad
 s
DTSTART;TZID=US/Central:20250708T180000
DTEND;TZID=US/Central:20250708T200000
DTSTAMP:20260421T161205Z
UID:d22390afd50a4f288fd04fb76348c217@saas_stack_varnish:6080
CREATED:20250514T030528Z
LAST-MODIFIED:20250514T030610Z
URL:https://lebanon-laclede.ploud.net/calendar-news/events/si-siman-the-oz
 ark-jubilee-and-music-business-at-the-crossroads
END:VEVENT
BEGIN:VTIMEZONE
TZID:US/Central
X-LIC-LOCATION:US/Central
BEGIN:DAYLIGHT
DTSTART:20250309T030000
TZNAME:CDT
TZOFFSETFROM:-0600
TZOFFSETTO:-0500
END:DAYLIGHT
END:VTIMEZONE
END:VCALENDAR
