BEGIN:VCALENDAR
VERSION:2.0
PRODID:-//Plone.org//NONSGML plone.app.event//EN
X-WR-TIMEZONE:US/Central
BEGIN:VEVENT
SUMMARY:Spanish/English Story Time
DTSTART;TZID=US/Central:20250628T103000
DTEND;TZID=US/Central:20250628T113000
DTSTAMP:20260421T154718Z
UID:7ad62595c39a42199519c65b32a61166@saas_stack_varnish:6080
CREATED:20250603T164300Z
LAST-MODIFIED:20250603T164438Z
URL:https://lebanon-laclede.ploud.net/calendar-news/events/spanish-english
 -story-time
END:VEVENT
BEGIN:VTIMEZONE
TZID:US/Central
X-LIC-LOCATION:US/Central
BEGIN:DAYLIGHT
DTSTART:20250309T030000
TZNAME:CDT
TZOFFSETFROM:-0600
TZOFFSETTO:-0500
END:DAYLIGHT
END:VTIMEZONE
END:VCALENDAR
