BEGIN:VCALENDAR
VERSION:2.0
PRODID:-//Plone.org//NONSGML plone.app.event//EN
X-WR-TIMEZONE:US/Central
BEGIN:VEVENT
SUMMARY:Spanish/English Storytime
DTSTART;TZID=US/Central:20250726T103000
DTEND;TZID=US/Central:20250726T113000
DTSTAMP:20260421T142349Z
UID:9a1f86c172d24bf0abacc67a533aae16@saas_stack_varnish:6080
CREATED:20250710T132534Z
LAST-MODIFIED:20250710T132539Z
URL:https://lebanon-laclede.ploud.net/calendar-news/events/spanish-english
 -storytime
END:VEVENT
BEGIN:VTIMEZONE
TZID:US/Central
X-LIC-LOCATION:US/Central
BEGIN:DAYLIGHT
DTSTART:20250309T030000
TZNAME:CDT
TZOFFSETFROM:-0600
TZOFFSETTO:-0500
END:DAYLIGHT
END:VTIMEZONE
END:VCALENDAR
