BEGIN:VCALENDAR
VERSION:2.0
PRODID:-//Plone.org//NONSGML plone.app.event//EN
X-WR-TIMEZONE:US/Central
BEGIN:VEVENT
SUMMARY:Spring Open House at Kinderhook Treasures Gift Shop
DTSTART;TZID=US/Central:20250329T100000
DTEND;TZID=US/Central:20250329T160000
DTSTAMP:20260421T190309Z
UID:84b4d8283de94e678966537c142f1aff@saas_stack_varnish:6080
CREATED:20250328T150959Z
LAST-MODIFIED:20250328T151008Z
URL:https://lebanon-laclede.ploud.net/calendar-news/events/spring-open-hou
 se-at-kinderhook-treasures-gift-shop
END:VEVENT
BEGIN:VTIMEZONE
TZID:US/Central
X-LIC-LOCATION:US/Central
BEGIN:DAYLIGHT
DTSTART:20250309T030000
TZNAME:CDT
TZOFFSETFROM:-0600
TZOFFSETTO:-0500
END:DAYLIGHT
END:VTIMEZONE
END:VCALENDAR
