BEGIN:VCALENDAR
VERSION:2.0
PRODID:-//Plone.org//NONSGML plone.app.event//EN
X-WR-TIMEZONE:US/Central
BEGIN:VEVENT
SUMMARY:Storytime
DTSTART;TZID=US/Central:20240207T100000
DTEND;TZID=US/Central:20240207T110000
DTSTAMP:20260421T155219Z
UID:02356dbe97ae49128858ddfc3bccd193@saas_stack_varnish:6080
CREATED:20231226T171147Z
LAST-MODIFIED:20240401T193519Z
URL:https://lebanon-laclede.ploud.net/calendar-news/events/storytime-3/202
 4-02-07
END:VEVENT
BEGIN:VTIMEZONE
TZID:US/Central
X-LIC-LOCATION:US/Central
BEGIN:STANDARD
DTSTART:20231105T010000
TZNAME:CST
TZOFFSETFROM:-0500
TZOFFSETTO:-0600
END:STANDARD
END:VTIMEZONE
END:VCALENDAR
