BEGIN:VCALENDAR
VERSION:2.0
PRODID:-//Plone.org//NONSGML plone.app.event//EN
X-WR-TIMEZONE:US/Central
BEGIN:VEVENT
SUMMARY:Storytime
DTSTART;TZID=US/Central:20240321T100000
DTEND;TZID=US/Central:20240321T110000
DTSTAMP:20260421T172226Z
UID:02356dbe97ae49128858ddfc3bccd193@saas_stack_varnish:6080
CREATED:20231226T171147Z
LAST-MODIFIED:20240401T193519Z
URL:https://lebanon-laclede.ploud.net/calendar-news/events/storytime-3/202
 4-03-21
END:VEVENT
BEGIN:VTIMEZONE
TZID:US/Central
X-LIC-LOCATION:US/Central
BEGIN:DAYLIGHT
DTSTART:20240310T030000
TZNAME:CDT
TZOFFSETFROM:-0600
TZOFFSETTO:-0500
END:DAYLIGHT
END:VTIMEZONE
END:VCALENDAR
