BEGIN:VCALENDAR
VERSION:2.0
PRODID:-//Plone.org//NONSGML plone.app.event//EN
X-WR-TIMEZONE:US/Central
BEGIN:VEVENT
SUMMARY:Storytime
DTSTART;TZID=US/Central:20241212T100000
DTEND;TZID=US/Central:20241212T110000
DTSTAMP:20260421T233102Z
UID:02dffe98768b4438993940f557340414@saas_stack_varnish:6080
CREATED:20240820T185837Z
LAST-MODIFIED:20250618T233144Z
URL:https://lebanon-laclede.ploud.net/calendar-news/events/storytime-5/202
 4-12-12
END:VEVENT
BEGIN:VTIMEZONE
TZID:US/Central
X-LIC-LOCATION:US/Central
BEGIN:STANDARD
DTSTART:20241103T010000
TZNAME:CST
TZOFFSETFROM:-0500
TZOFFSETTO:-0600
END:STANDARD
END:VTIMEZONE
END:VCALENDAR
