BEGIN:VCALENDAR
VERSION:2.0
PRODID:-//Plone.org//NONSGML plone.app.event//EN
X-WR-TIMEZONE:US/Central
BEGIN:VEVENT
SUMMARY:Storytime
DTSTART;TZID=US/Central:20240911T100000
DTEND;TZID=US/Central:20240911T110000
DTSTAMP:20260421T160738Z
UID:02dffe98768b4438993940f557340414@saas_stack_varnish:6080
RRULE:FREQ=WEEKLY;UNTIL=20250801T000000;BYDAY=TH
EXDATE;TZID=US/Central:20241127T000000,20241128T000000,20241225T000000,202
 41226T000000,20250101T000000,20250102T000000,20250108T000000,20250109T0000
 00,20250115T000000,20250116T000000,20250507T000000,20250508T000000,2025051
 4T000000,20250515T000000,20250521T000000,20250522T000000,20250619T000000,2
 0250703T000000
CREATED:20240820T185837Z
LAST-MODIFIED:20250618T233144Z
URL:https://lebanon-laclede.ploud.net/calendar-news/events/storytime-5
END:VEVENT
BEGIN:VTIMEZONE
TZID:US/Central
X-LIC-LOCATION:US/Central
BEGIN:DAYLIGHT
DTSTART:20240310T030000
TZNAME:CDT
TZOFFSETFROM:-0600
TZOFFSETTO:-0500
END:DAYLIGHT
END:VTIMEZONE
END:VCALENDAR
