BEGIN:VCALENDAR
VERSION:2.0
PRODID:-//Plone.org//NONSGML plone.app.event//EN
X-WR-TIMEZONE:US/Central
BEGIN:VEVENT
SUMMARY:Storytime
DTSTART;TZID=US/Central:20250529T100000
DTEND;TZID=US/Central:20250529T110000
DTSTAMP:20260421T171810Z
UID:ca786363125c4603b254b66e9b79ad95@saas_stack_varnish:6080
CREATED:20250428T032923Z
LAST-MODIFIED:20250428T032934Z
URL:https://lebanon-laclede.ploud.net/calendar-news/events/storytime-6
END:VEVENT
BEGIN:VTIMEZONE
TZID:US/Central
X-LIC-LOCATION:US/Central
BEGIN:DAYLIGHT
DTSTART:20250309T030000
TZNAME:CDT
TZOFFSETFROM:-0600
TZOFFSETTO:-0500
END:DAYLIGHT
END:VTIMEZONE
END:VCALENDAR
