BEGIN:VCALENDAR
VERSION:2.0
PRODID:-//Plone.org//NONSGML plone.app.event//EN
X-WR-TIMEZONE:US/Central
BEGIN:VEVENT
SUMMARY:Storytime
DTSTART;TZID=US/Central:20250911T100000
DTEND;TZID=US/Central:20250911T110000
DTSTAMP:20260421T125351Z
UID:d2b63653e5bb443c87caadb7623891d3@saas_stack_varnish:6080
CREATED:20250819T184734Z
LAST-MODIFIED:20251117T212806Z
URL:https://lebanon-laclede.ploud.net/calendar-news/events/storytime-7/202
 5-09-11
END:VEVENT
BEGIN:VTIMEZONE
TZID:US/Central
X-LIC-LOCATION:US/Central
BEGIN:DAYLIGHT
DTSTART:20250309T030000
TZNAME:CDT
TZOFFSETFROM:-0600
TZOFFSETTO:-0500
END:DAYLIGHT
END:VTIMEZONE
END:VCALENDAR
