BEGIN:VCALENDAR
VERSION:2.0
PRODID:-//Plone.org//NONSGML plone.app.event//EN
X-WR-TIMEZONE:US/Central
BEGIN:VEVENT
SUMMARY:Storytime with Santa
DTSTART;TZID=US/Central:20231209T110000
DTEND;TZID=US/Central:20231209T130000
DTSTAMP:20260421T142246Z
UID:7b457516375b4da89793bf64772d181a@saas_stack_varnish:6080
CREATED:20231109T172726Z
LAST-MODIFIED:20231109T172741Z
URL:https://lebanon-laclede.ploud.net/calendar-news/events/storytime-with-
 santa
END:VEVENT
BEGIN:VTIMEZONE
TZID:US/Central
X-LIC-LOCATION:US/Central
BEGIN:STANDARD
DTSTART:20231105T010000
TZNAME:CST
TZOFFSETFROM:-0500
TZOFFSETTO:-0600
END:STANDARD
END:VTIMEZONE
END:VCALENDAR
