BEGIN:VCALENDAR
VERSION:2.0
PRODID:-//Plone.org//NONSGML plone.app.event//EN
X-WR-TIMEZONE:US/Central
BEGIN:VEVENT
SUMMARY:Stuffed Animal Sleepover
DTSTART;TZID=US/Central:20240809T140000
DTEND;TZID=US/Central:20240809T170000
DTSTAMP:20260421T232809Z
UID:cb4be1fc8e384f3196eefaa09b1e92dc@saas_stack_varnish:6080
CREATED:20240806T163820Z
LAST-MODIFIED:20240806T163830Z
URL:https://lebanon-laclede.ploud.net/calendar-news/events/stuffed-animal-
 sleepover
END:VEVENT
BEGIN:VTIMEZONE
TZID:US/Central
X-LIC-LOCATION:US/Central
BEGIN:DAYLIGHT
DTSTART:20240310T030000
TZNAME:CDT
TZOFFSETFROM:-0600
TZOFFSETTO:-0500
END:DAYLIGHT
END:VTIMEZONE
END:VCALENDAR
