BEGIN:VCALENDAR
VERSION:2.0
PRODID:-//Plone.org//NONSGML plone.app.event//EN
X-WR-TIMEZONE:US/Central
BEGIN:VEVENT
SUMMARY:Teddy Bear Picnic
DTSTART;TZID=US/Central:20240723T100000
DTEND;TZID=US/Central:20240723T120000
DTSTAMP:20260421T215643Z
UID:aef6350412024eb69f0e3a032ff63611@saas_stack_varnish:6080
CREATED:20240709T015008Z
LAST-MODIFIED:20240709T015016Z
URL:https://lebanon-laclede.ploud.net/calendar-news/events/teddy-bear-picn
 ic-1
END:VEVENT
BEGIN:VTIMEZONE
TZID:US/Central
X-LIC-LOCATION:US/Central
BEGIN:DAYLIGHT
DTSTART:20240310T030000
TZNAME:CDT
TZOFFSETFROM:-0600
TZOFFSETTO:-0500
END:DAYLIGHT
END:VTIMEZONE
END:VCALENDAR
