BEGIN:VCALENDAR
VERSION:2.0
PRODID:-//Plone.org//NONSGML plone.app.event//EN
X-WR-TIMEZONE:US/Central
BEGIN:VEVENT
SUMMARY:Teddy Bear Picnic
DTSTART;TZID=US/Central:20250708T100000
DTEND;TZID=US/Central:20250708T120000
DTSTAMP:20260421T154204Z
UID:45edba2d6b7e4244bb114eab2d854336@saas_stack_varnish:6080
CREATED:20250501T031021Z
LAST-MODIFIED:20250617T185840Z
URL:https://lebanon-laclede.ploud.net/calendar-news/events/teddy-bear-picn
 ic-2
END:VEVENT
BEGIN:VTIMEZONE
TZID:US/Central
X-LIC-LOCATION:US/Central
BEGIN:DAYLIGHT
DTSTART:20250309T030000
TZNAME:CDT
TZOFFSETFROM:-0600
TZOFFSETTO:-0500
END:DAYLIGHT
END:VTIMEZONE
END:VCALENDAR
