BEGIN:VCALENDAR
VERSION:2.0
PRODID:-//Plone.org//NONSGML plone.app.event//EN
X-WR-TIMEZONE:US/Central
BEGIN:VEVENT
SUMMARY:Teen Event: BINGO for Books
DTSTART;TZID=US/Central:20250627T110000
DTEND;TZID=US/Central:20250627T120000
DTSTAMP:20260421T160925Z
UID:1d81d018eee9495191c74e777c7a19b5@saas_stack_varnish:6080
CREATED:20250512T185508Z
LAST-MODIFIED:20250512T185515Z
URL:https://lebanon-laclede.ploud.net/calendar-news/events/teen-event-bing
 o-for-books
END:VEVENT
BEGIN:VTIMEZONE
TZID:US/Central
X-LIC-LOCATION:US/Central
BEGIN:DAYLIGHT
DTSTART:20250309T030000
TZNAME:CDT
TZOFFSETFROM:-0600
TZOFFSETTO:-0500
END:DAYLIGHT
END:VTIMEZONE
END:VCALENDAR
