BEGIN:VCALENDAR
VERSION:2.0
PRODID:-//Plone.org//NONSGML plone.app.event//EN
X-WR-TIMEZONE:US/Central
BEGIN:VEVENT
SUMMARY:Teen Event: Blackout Poetry Art
DTSTART;TZID=US/Central:20240531T110000
DTEND;TZID=US/Central:20240531T120000
DTSTAMP:20260421T191431Z
UID:78dfae26397c4133a6b7e6cf60568463@saas_stack_varnish:6080
CREATED:20240430T202400Z
LAST-MODIFIED:20240430T202411Z
URL:https://lebanon-laclede.ploud.net/calendar-news/events/teen-event-blac
 kout-poetry-art
END:VEVENT
BEGIN:VTIMEZONE
TZID:US/Central
X-LIC-LOCATION:US/Central
BEGIN:DAYLIGHT
DTSTART:20240310T030000
TZNAME:CDT
TZOFFSETFROM:-0600
TZOFFSETTO:-0500
END:DAYLIGHT
END:VTIMEZONE
END:VCALENDAR
