BEGIN:VCALENDAR
VERSION:2.0
PRODID:-//Plone.org//NONSGML plone.app.event//EN
X-WR-TIMEZONE:US/Central
BEGIN:VEVENT
SUMMARY:Teen Event: Christmas Crafts and Movie Morning
DTSTART;TZID=US/Central:20241220T110000
DTEND;TZID=US/Central:20241220T130000
DTSTAMP:20260421T222519Z
UID:bd36f510a69c4b8190abdac5caa5bc9a@saas_stack_varnish:6080
CREATED:20241202T195345Z
LAST-MODIFIED:20241202T195459Z
URL:https://lebanon-laclede.ploud.net/calendar-news/events/teen-event-chri
 stmas-crafts-and-movie-morning
END:VEVENT
BEGIN:VTIMEZONE
TZID:US/Central
X-LIC-LOCATION:US/Central
BEGIN:STANDARD
DTSTART:20241103T010000
TZNAME:CST
TZOFFSETFROM:-0500
TZOFFSETTO:-0600
END:STANDARD
END:VTIMEZONE
END:VCALENDAR
