BEGIN:VCALENDAR
VERSION:2.0
PRODID:-//Plone.org//NONSGML plone.app.event//EN
X-WR-TIMEZONE:US/Central
BEGIN:VEVENT
SUMMARY:Teen Event: Christmas in a Tiny Tin
DTSTART;TZID=US/Central:20231208T100000
DTEND;TZID=US/Central:20231208T120000
DTSTAMP:20260421T142553Z
UID:b94f0fd16d1b4ddea7f89131449a3e09@saas_stack_varnish:6080
CREATED:20231121T175654Z
LAST-MODIFIED:20231121T175703Z
URL:https://lebanon-laclede.ploud.net/calendar-news/events/teen-event-chri
 stmas-in-a-tiny-tin
END:VEVENT
BEGIN:VTIMEZONE
TZID:US/Central
X-LIC-LOCATION:US/Central
BEGIN:STANDARD
DTSTART:20231105T010000
TZNAME:CST
TZOFFSETFROM:-0500
TZOFFSETTO:-0600
END:STANDARD
END:VTIMEZONE
END:VCALENDAR
