BEGIN:VCALENDAR
VERSION:2.0
PRODID:-//Plone.org//NONSGML plone.app.event//EN
X-WR-TIMEZONE:US/Central
BEGIN:VEVENT
SUMMARY:Teen Event: Cozy Crafts and Movie
DTSTART;TZID=US/Central:20241011T110000
DTEND;TZID=US/Central:20241011T140000
DTSTAMP:20260422T012537Z
UID:763e9ba910004816848187bec4f52e2b@saas_stack_varnish:6080
CREATED:20240922T015302Z
LAST-MODIFIED:20240922T015312Z
URL:https://lebanon-laclede.ploud.net/calendar-news/events/teen-event-cozy
 -crafts-and-movie
END:VEVENT
BEGIN:VTIMEZONE
TZID:US/Central
X-LIC-LOCATION:US/Central
BEGIN:DAYLIGHT
DTSTART:20240310T030000
TZNAME:CDT
TZOFFSETFROM:-0600
TZOFFSETTO:-0500
END:DAYLIGHT
END:VTIMEZONE
END:VCALENDAR
