BEGIN:VCALENDAR
VERSION:2.0
PRODID:-//Plone.org//NONSGML plone.app.event//EN
X-WR-TIMEZONE:US/Central
BEGIN:VEVENT
SUMMARY:Teen Event: Cupcake Decorating
DTSTART;TZID=US/Central:20250214T110000
DTEND;TZID=US/Central:20250214T120000
DTSTAMP:20260421T202922Z
UID:dbd4010074b94d42a605bf2ac1c19fad@saas_stack_varnish:6080
CREATED:20250205T200449Z
LAST-MODIFIED:20250205T200500Z
URL:https://lebanon-laclede.ploud.net/calendar-news/events/teen-event-cupc
 ake-decorating
END:VEVENT
BEGIN:VTIMEZONE
TZID:US/Central
X-LIC-LOCATION:US/Central
BEGIN:STANDARD
DTSTART:20241103T010000
TZNAME:CST
TZOFFSETFROM:-0500
TZOFFSETTO:-0600
END:STANDARD
END:VTIMEZONE
END:VCALENDAR
