BEGIN:VCALENDAR
VERSION:2.0
PRODID:-//Plone.org//NONSGML plone.app.event//EN
X-WR-TIMEZONE:US/Central
BEGIN:VEVENT
SUMMARY:Teen Event DIY Bookmarks
DTSTART;TZID=US/Central:20250620T110000
DTEND;TZID=US/Central:20250620T120000
DTSTAMP:20260421T154828Z
UID:3e65b4ecb9e64b71a9bc270bd2cc9237@saas_stack_varnish:6080
CREATED:20250512T180137Z
LAST-MODIFIED:20250512T180143Z
URL:https://lebanon-laclede.ploud.net/calendar-news/events/teen-event-diy-
 bookmarks-1
END:VEVENT
BEGIN:VTIMEZONE
TZID:US/Central
X-LIC-LOCATION:US/Central
BEGIN:DAYLIGHT
DTSTART:20250309T030000
TZNAME:CDT
TZOFFSETFROM:-0600
TZOFFSETTO:-0500
END:DAYLIGHT
END:VTIMEZONE
END:VCALENDAR
