BEGIN:VCALENDAR
VERSION:2.0
PRODID:-//Plone.org//NONSGML plone.app.event//EN
X-WR-TIMEZONE:US/Central
BEGIN:VEVENT
SUMMARY:Teen Event: End of Summer Party
DTSTART;TZID=US/Central:20240802T110000
DTEND;TZID=US/Central:20240802T140000
DTSTAMP:20260421T220355Z
UID:733c180ff0a14a0987d0ee7ee7ed1bdb@saas_stack_varnish:6080
CREATED:20240629T161707Z
LAST-MODIFIED:20240629T161714Z
URL:https://lebanon-laclede.ploud.net/calendar-news/events/teen-event-end-
 of-summer-party
END:VEVENT
BEGIN:VTIMEZONE
TZID:US/Central
X-LIC-LOCATION:US/Central
BEGIN:DAYLIGHT
DTSTART:20240310T030000
TZNAME:CDT
TZOFFSETFROM:-0600
TZOFFSETTO:-0500
END:DAYLIGHT
END:VTIMEZONE
END:VCALENDAR
