BEGIN:VCALENDAR
VERSION:2.0
PRODID:-//Plone.org//NONSGML plone.app.event//EN
X-WR-TIMEZONE:US/Central
BEGIN:VEVENT
SUMMARY:Teen Event: Ghost Painting
DTSTART;TZID=US/Central:20251010T110000
DTEND;TZID=US/Central:20251010T120000
DTSTAMP:20260421T112646Z
UID:2d65eef9c15649d7b4dc9159a44e2d2a@saas_stack_varnish:6080
CREATED:20250916T181002Z
LAST-MODIFIED:20250916T181055Z
URL:https://lebanon-laclede.ploud.net/calendar-news/events/teen-event-ghos
 t-painting
END:VEVENT
BEGIN:VTIMEZONE
TZID:US/Central
X-LIC-LOCATION:US/Central
BEGIN:DAYLIGHT
DTSTART:20250309T030000
TZNAME:CDT
TZOFFSETFROM:-0600
TZOFFSETTO:-0500
END:DAYLIGHT
END:VTIMEZONE
END:VCALENDAR
