BEGIN:VCALENDAR
VERSION:2.0
PRODID:-//Plone.org//NONSGML plone.app.event//EN
X-WR-TIMEZONE:US/Central
BEGIN:VEVENT
SUMMARY:Teen Event: Harry Potter Tea Party
DTSTART;TZID=US/Central:20241014T130000
DTEND;TZID=US/Central:20241014T150000
DTSTAMP:20260422T011432Z
UID:e5ac453c6ac84c5695d7fc9e4bcbf913@saas_stack_varnish:6080
CREATED:20241014T145411Z
LAST-MODIFIED:20241014T145904Z
URL:https://lebanon-laclede.ploud.net/calendar-news/events/teen-event-harr
 y-potter-tea-party
END:VEVENT
BEGIN:VTIMEZONE
TZID:US/Central
X-LIC-LOCATION:US/Central
BEGIN:DAYLIGHT
DTSTART:20240310T030000
TZNAME:CDT
TZOFFSETFROM:-0600
TZOFFSETTO:-0500
END:DAYLIGHT
END:VTIMEZONE
END:VCALENDAR
