BEGIN:VCALENDAR
VERSION:2.0
PRODID:-//Plone.org//NONSGML plone.app.event//EN
X-WR-TIMEZONE:US/Central
BEGIN:VEVENT
SUMMARY:Teen Event: Make a Fantasy Map
DTSTART;TZID=US/Central:20240913T110000
DTEND;TZID=US/Central:20240913T120000
DTSTAMP:20260421T233135Z
UID:a1a2bc76cd9646f3a17fc33ad39426ba@saas_stack_varnish:6080
CREATED:20240829T201832Z
LAST-MODIFIED:20240829T201843Z
URL:https://lebanon-laclede.ploud.net/calendar-news/events/teen-event-make
 -a-fantasy-map
END:VEVENT
BEGIN:VTIMEZONE
TZID:US/Central
X-LIC-LOCATION:US/Central
BEGIN:DAYLIGHT
DTSTART:20240310T030000
TZNAME:CDT
TZOFFSETFROM:-0600
TZOFFSETTO:-0500
END:DAYLIGHT
END:VTIMEZONE
END:VCALENDAR
