BEGIN:VCALENDAR
VERSION:2.0
PRODID:-//Plone.org//NONSGML plone.app.event//EN
X-WR-TIMEZONE:US/Central
BEGIN:VEVENT
SUMMARY:Teen Event: Mini Forest Scene
DTSTART;TZID=US/Central:20240726T110000
DTEND;TZID=US/Central:20240726T120000
DTSTAMP:20260421T220004Z
UID:c2bfc80bafce476e9202bf9cac2b08ad@saas_stack_varnish:6080
CREATED:20240629T155249Z
LAST-MODIFIED:20240629T155259Z
URL:https://lebanon-laclede.ploud.net/calendar-news/events/teen-event-mini
 -forest-scene
END:VEVENT
BEGIN:VTIMEZONE
TZID:US/Central
X-LIC-LOCATION:US/Central
BEGIN:DAYLIGHT
DTSTART:20240310T030000
TZNAME:CDT
TZOFFSETFROM:-0600
TZOFFSETTO:-0500
END:DAYLIGHT
END:VTIMEZONE
END:VCALENDAR
