BEGIN:VCALENDAR
VERSION:2.0
PRODID:-//Plone.org//NONSGML plone.app.event//EN
X-WR-TIMEZONE:US/Central
BEGIN:VEVENT
SUMMARY:Teen Event: Mosaic Moon Art
DTSTART;TZID=US/Central:20230630T110000
DTEND;TZID=US/Central:20230630T120000
DTSTAMP:20260421T095158Z
UID:8a615f0a5d694acf85cdb1e00e4a49e4@saas_stack_varnish:6080
CONTACT:4175322148\, https://forms.gle/LJbAS3MUoqK12GBJ6
CREATED:20230524T182559Z
LAST-MODIFIED:20230524T182608Z
LOCATION:Library meeting rooms
URL:https://lebanon-laclede.ploud.net/calendar-news/events/teen-event-mosa
 ic-moon-art
END:VEVENT
BEGIN:VTIMEZONE
TZID:US/Central
X-LIC-LOCATION:US/Central
BEGIN:DAYLIGHT
DTSTART:20230312T030000
TZNAME:CDT
TZOFFSETFROM:-0600
TZOFFSETTO:-0500
END:DAYLIGHT
END:VTIMEZONE
END:VCALENDAR
