BEGIN:VCALENDAR
VERSION:2.0
PRODID:-//Plone.org//NONSGML plone.app.event//EN
X-WR-TIMEZONE:US/Central
BEGIN:VEVENT
SUMMARY:Teen Event: Puzzle Art
DTSTART;TZID=US/Central:20230623T110000
DTEND;TZID=US/Central:20230623T120000
DTSTAMP:20260421T095042Z
UID:d096824f6197406ca16231efac03ecfa@saas_stack_varnish:6080
CONTACT:4175322148\, https://forms.gle/1QjfqqePsHwzqR5R9
CREATED:20230524T181449Z
LAST-MODIFIED:20230524T190109Z
LOCATION:Library meeting rooms
URL:https://lebanon-laclede.ploud.net/calendar-news/events/teen-event-puzz
 le-art
END:VEVENT
BEGIN:VTIMEZONE
TZID:US/Central
X-LIC-LOCATION:US/Central
BEGIN:DAYLIGHT
DTSTART:20230312T030000
TZNAME:CDT
TZOFFSETFROM:-0600
TZOFFSETTO:-0500
END:DAYLIGHT
END:VTIMEZONE
END:VCALENDAR
