BEGIN:VCALENDAR
VERSION:2.0
PRODID:-//Plone.org//NONSGML plone.app.event//EN
X-WR-TIMEZONE:US/Central
BEGIN:VEVENT
SUMMARY:Teen Event: Relax and Doodle
DTSTART;TZID=US/Central:20250912T110000
DTEND;TZID=US/Central:20250912T130000
DTSTAMP:20260421T125437Z
UID:503b3e80151f44ce8ba5bd2e90afa99c@saas_stack_varnish:6080
CREATED:20250819T185010Z
LAST-MODIFIED:20250819T185022Z
URL:https://lebanon-laclede.ploud.net/calendar-news/events/teen-event-rela
 x-and-doodle
END:VEVENT
BEGIN:VTIMEZONE
TZID:US/Central
X-LIC-LOCATION:US/Central
BEGIN:DAYLIGHT
DTSTART:20250309T030000
TZNAME:CDT
TZOFFSETFROM:-0600
TZOFFSETTO:-0500
END:DAYLIGHT
END:VTIMEZONE
END:VCALENDAR
