BEGIN:VCALENDAR
VERSION:2.0
PRODID:-//Plone.org//NONSGML plone.app.event//EN
X-WR-TIMEZONE:US/Central
BEGIN:VEVENT
SUMMARY:Teen Event: Road Trip Planners
DTSTART;TZID=US/Central:20240628T110000
DTEND;TZID=US/Central:20240628T120000
DTSTAMP:20260421T203258Z
UID:73bd92e5b32d4d4890cd90c7ad4c55ab@saas_stack_varnish:6080
CREATED:20240529T221917Z
LAST-MODIFIED:20240529T221928Z
URL:https://lebanon-laclede.ploud.net/calendar-news/events/teen-event-road
 -trip-planners
END:VEVENT
BEGIN:VTIMEZONE
TZID:US/Central
X-LIC-LOCATION:US/Central
BEGIN:DAYLIGHT
DTSTART:20240310T030000
TZNAME:CDT
TZOFFSETFROM:-0600
TZOFFSETTO:-0500
END:DAYLIGHT
END:VTIMEZONE
END:VCALENDAR
