BEGIN:VCALENDAR
VERSION:2.0
PRODID:-//Plone.org//NONSGML plone.app.event//EN
X-WR-TIMEZONE:US/Central
BEGIN:VEVENT
SUMMARY:Teen Event: Stained Glass Art
DTSTART;TZID=US/Central:20250711T110000
DTEND;TZID=US/Central:20250711T120000
DTSTAMP:20260421T161021Z
UID:0c362625ec79451b88898ca938dd9224@saas_stack_varnish:6080
CREATED:20250512T185733Z
LAST-MODIFIED:20250512T185752Z
URL:https://lebanon-laclede.ploud.net/calendar-news/events/teen-event-stai
 ned-glass-art
END:VEVENT
BEGIN:VTIMEZONE
TZID:US/Central
X-LIC-LOCATION:US/Central
BEGIN:DAYLIGHT
DTSTART:20250309T030000
TZNAME:CDT
TZOFFSETFROM:-0600
TZOFFSETTO:-0500
END:DAYLIGHT
END:VTIMEZONE
END:VCALENDAR
