BEGIN:VCALENDAR
VERSION:2.0
PRODID:-//Plone.org//NONSGML plone.app.event//EN
X-WR-TIMEZONE:US/Central
BEGIN:VEVENT
SUMMARY:Teen Event: Tie Dye and End of Summer Party
DTSTART;TZID=US/Central:20250801T110000
DTEND;TZID=US/Central:20250801T130000
DTSTAMP:20260421T142733Z
UID:39289301a7cb4b7e96a64063f7d09c15@saas_stack_varnish:6080
CREATED:20250514T032750Z
LAST-MODIFIED:20250514T032804Z
URL:https://lebanon-laclede.ploud.net/calendar-news/events/teen-event-tie-
 dye-and-end-of-summer-party
END:VEVENT
BEGIN:VTIMEZONE
TZID:US/Central
X-LIC-LOCATION:US/Central
BEGIN:DAYLIGHT
DTSTART:20250309T030000
TZNAME:CDT
TZOFFSETFROM:-0600
TZOFFSETTO:-0500
END:DAYLIGHT
END:VTIMEZONE
END:VCALENDAR
