BEGIN:VCALENDAR
VERSION:2.0
PRODID:-//Plone.org//NONSGML plone.app.event//EN
X-WR-TIMEZONE:US/Central
BEGIN:VEVENT
SUMMARY:Teen Event: Tiny Window Art
DTSTART;TZID=US/Central:20250725T110000
DTEND;TZID=US/Central:20250725T120000
DTSTAMP:20260421T142244Z
UID:b9e524861dd94ce3ba7fa4a573024996@saas_stack_varnish:6080
CREATED:20250520T025259Z
LAST-MODIFIED:20250520T025309Z
URL:https://lebanon-laclede.ploud.net/calendar-news/events/teen-event-tiny
 -window-art
END:VEVENT
BEGIN:VTIMEZONE
TZID:US/Central
X-LIC-LOCATION:US/Central
BEGIN:DAYLIGHT
DTSTART:20250309T030000
TZNAME:CDT
TZOFFSETFROM:-0600
TZOFFSETTO:-0500
END:DAYLIGHT
END:VTIMEZONE
END:VCALENDAR
