BEGIN:VCALENDAR
VERSION:2.0
PRODID:-//Plone.org//NONSGML plone.app.event//EN
X-WR-TIMEZONE:US/Central
BEGIN:VEVENT
SUMMARY:The Potato Masher Murder: Three years of reflecting on a deadly fa
 mily secret
DTSTART;TZID=US/Central:20231003T180000
DTEND;TZID=US/Central:20231003T200000
DTSTAMP:20260421T111657Z
UID:45a91c6d19e44543ad40c1378688bff4@saas_stack_varnish:6080
CREATED:20230906T193051Z
LAST-MODIFIED:20230906T193109Z
LOCATION:The Lebanon-Laclede County Library
URL:https://lebanon-laclede.ploud.net/calendar-news/events/the-potato-mash
 er-murder-three-years-of-reflecting-on-a-deadly-family-secret
END:VEVENT
BEGIN:VTIMEZONE
TZID:US/Central
X-LIC-LOCATION:US/Central
BEGIN:DAYLIGHT
DTSTART:20230312T030000
TZNAME:CDT
TZOFFSETFROM:-0600
TZOFFSETTO:-0500
END:DAYLIGHT
END:VTIMEZONE
END:VCALENDAR
