BEGIN:VCALENDAR
VERSION:2.0
PRODID:-//Plone.org//NONSGML plone.app.event//EN
X-WR-TIMEZONE:US/Central
BEGIN:VEVENT
SUMMARY:Theater Thursday: ET the Extra-Terrestrial
DTSTART;TZID=US/Central:20231102T180000
DTEND;TZID=US/Central:20231102T200000
DTSTAMP:20260421T125053Z
UID:2b5bd7c55f0d40c08453a51292ee2292@saas_stack_varnish:6080
CREATED:20231017T173718Z
LAST-MODIFIED:20231017T173752Z
URL:https://lebanon-laclede.ploud.net/calendar-news/events/theater-thursda
 y-et-the-extra-terrestrial
END:VEVENT
BEGIN:VTIMEZONE
TZID:US/Central
X-LIC-LOCATION:US/Central
BEGIN:DAYLIGHT
DTSTART:20230312T030000
TZNAME:CDT
TZOFFSETFROM:-0600
TZOFFSETTO:-0500
END:DAYLIGHT
END:VTIMEZONE
END:VCALENDAR
