BEGIN:VCALENDAR
VERSION:2.0
PRODID:-//Plone.org//NONSGML plone.app.event//EN
X-WR-TIMEZONE:US/Central
BEGIN:VEVENT
SUMMARY:Theater Thursday: George of the Jungle
DTSTART;TZID=US/Central:20230706T180000
DTEND;TZID=US/Central:20230706T190000
DTSTAMP:20260421T095244Z
UID:163c53354beb4f2182102b3e3f53aabb@saas_stack_varnish:6080
CONTACT:4175322148
CREATED:20230524T183108Z
LAST-MODIFIED:20230524T183139Z
LOCATION:Library meeting rooms
URL:https://lebanon-laclede.ploud.net/calendar-news/events/theater-thursda
 y-george-of-the-jungle
END:VEVENT
BEGIN:VTIMEZONE
TZID:US/Central
X-LIC-LOCATION:US/Central
BEGIN:DAYLIGHT
DTSTART:20230312T030000
TZNAME:CDT
TZOFFSETFROM:-0600
TZOFFSETTO:-0500
END:DAYLIGHT
END:VTIMEZONE
END:VCALENDAR
