BEGIN:VCALENDAR
VERSION:2.0
PRODID:-//Plone.org//NONSGML plone.app.event//EN
X-WR-TIMEZONE:US/Central
BEGIN:VEVENT
SUMMARY:Theater Thursday: Hook
DTSTART;TZID=US/Central:20240201T173000
DTEND;TZID=US/Central:20240201T200000
DTSTAMP:20260421T154206Z
UID:0b9ce41a786a440283f7fabfc5916e25@saas_stack_varnish:6080
CREATED:20240124T202219Z
LAST-MODIFIED:20240124T202229Z
URL:https://lebanon-laclede.ploud.net/calendar-news/events/theater-thursda
 y-hook
END:VEVENT
BEGIN:VTIMEZONE
TZID:US/Central
X-LIC-LOCATION:US/Central
BEGIN:STANDARD
DTSTART:20231105T010000
TZNAME:CST
TZOFFSETFROM:-0500
TZOFFSETTO:-0600
END:STANDARD
END:VTIMEZONE
END:VCALENDAR
