BEGIN:VCALENDAR
VERSION:2.0
PRODID:-//Plone.org//NONSGML plone.app.event//EN
X-WR-TIMEZONE:US/Central
BEGIN:VEVENT
SUMMARY:Theater Thursday: Inside Out
DTSTART;TZID=US/Central:20240502T180000
DTEND;TZID=US/Central:20240502T200000
DTSTAMP:20260421T185808Z
UID:75eb204f1ebf41a18b0fb55f8a818e18@saas_stack_varnish:6080
CREATED:20240423T192938Z
LAST-MODIFIED:20240423T192952Z
URL:https://lebanon-laclede.ploud.net/calendar-news/events/theater-thursda
 y-inside-out
END:VEVENT
BEGIN:VTIMEZONE
TZID:US/Central
X-LIC-LOCATION:US/Central
BEGIN:DAYLIGHT
DTSTART:20240310T030000
TZNAME:CDT
TZOFFSETFROM:-0600
TZOFFSETTO:-0500
END:DAYLIGHT
END:VTIMEZONE
END:VCALENDAR
