BEGIN:VCALENDAR
VERSION:2.0
PRODID:-//Plone.org//NONSGML plone.app.event//EN
X-WR-TIMEZONE:US/Central
BEGIN:VEVENT
SUMMARY:Theater Thursday: James and the Giant Peach
DTSTART;TZID=US/Central:20240404T180000
DTEND;TZID=US/Central:20240404T200000
DTSTAMP:20260421T174809Z
UID:2f7d4e4f40224ce4a788629a1875f684@saas_stack_varnish:6080
CREATED:20240401T160049Z
LAST-MODIFIED:20240401T160104Z
LOCATION:Lebanon-Laclede County Library
URL:https://lebanon-laclede.ploud.net/calendar-news/events/theater-thursda
 y-james-and-the-giant-peach-1
END:VEVENT
BEGIN:VTIMEZONE
TZID:US/Central
X-LIC-LOCATION:US/Central
BEGIN:DAYLIGHT
DTSTART:20240310T030000
TZNAME:CDT
TZOFFSETFROM:-0600
TZOFFSETTO:-0500
END:DAYLIGHT
END:VTIMEZONE
END:VCALENDAR
