BEGIN:VCALENDAR
VERSION:2.0
PRODID:-//Plone.org//NONSGML plone.app.event//EN
X-WR-TIMEZONE:US/Central
BEGIN:VEVENT
SUMMARY:Theater Thursday: James and the Giant Peach
DTSTART;TZID=US/Central:20240307T180000
DTEND;TZID=US/Central:20240307T200000
DTSTAMP:20260421T172533Z
UID:06fec1d0aa39468ba1a3736b78543004@saas_stack_varnish:6080
CREATED:20240226T023808Z
LAST-MODIFIED:20240226T023824Z
URL:https://lebanon-laclede.ploud.net/calendar-news/events/theater-thursda
 y-james-and-the-giant-peach
END:VEVENT
BEGIN:VTIMEZONE
TZID:US/Central
X-LIC-LOCATION:US/Central
BEGIN:STANDARD
DTSTART:20231105T010000
TZNAME:CST
TZOFFSETFROM:-0500
TZOFFSETTO:-0600
END:STANDARD
END:VTIMEZONE
END:VCALENDAR
