BEGIN:VCALENDAR
VERSION:2.0
PRODID:-//Plone.org//NONSGML plone.app.event//EN
X-WR-TIMEZONE:US/Central
BEGIN:VEVENT
SUMMARY:Theater Thursday: The Nightmare Before Christmas
DTSTART;TZID=US/Central:20231005T180000
DTEND;TZID=US/Central:20231005T200000
DTSTAMP:20260421T112421Z
UID:26360ce4cec6436191cd9e9d9fc14af9@saas_stack_varnish:6080
CREATED:20230925T205955Z
LAST-MODIFIED:20230925T210530Z
LOCATION:Lebanon-Laclede County library
URL:https://lebanon-laclede.ploud.net/calendar-news/events/theater-thursda
 y-the-nightmare-before-christmas
END:VEVENT
BEGIN:VTIMEZONE
TZID:US/Central
X-LIC-LOCATION:US/Central
BEGIN:DAYLIGHT
DTSTART:20230312T030000
TZNAME:CDT
TZOFFSETFROM:-0600
TZOFFSETTO:-0500
END:DAYLIGHT
END:VTIMEZONE
END:VCALENDAR
