BEGIN:VCALENDAR
VERSION:2.0
PRODID:-//Plone.org//NONSGML plone.app.event//EN
X-WR-TIMEZONE:US/Central
BEGIN:VEVENT
SUMMARY:Theater Thursday: Up
DTSTART;TZID=US/Central:20240606T180000
DTEND;TZID=US/Central:20240606T200000
DTSTAMP:20260421T185806Z
UID:7fb13b8d5f8c49578694cac6dc3042ad@saas_stack_varnish:6080
CREATED:20240514T003856Z
LAST-MODIFIED:20240514T003911Z
URL:https://lebanon-laclede.ploud.net/calendar-news/events/theater-thursda
 y-up
END:VEVENT
BEGIN:VTIMEZONE
TZID:US/Central
X-LIC-LOCATION:US/Central
BEGIN:DAYLIGHT
DTSTART:20240310T030000
TZNAME:CDT
TZOFFSETFROM:-0600
TZOFFSETTO:-0500
END:DAYLIGHT
END:VTIMEZONE
END:VCALENDAR
