BEGIN:VCALENDAR
VERSION:2.0
PRODID:-//Plone.org//NONSGML plone.app.event//EN
X-WR-TIMEZONE:US/Central
BEGIN:VEVENT
SUMMARY:Theater Thursday: Wish
DTSTART;TZID=US/Central:20240905T180000
DTEND;TZID=US/Central:20240905T200000
DTSTAMP:20260421T232825Z
UID:8c065b01e65a4bb9a4f04b058915ed4a@saas_stack_varnish:6080
CREATED:20240820T184842Z
LAST-MODIFIED:20240820T184851Z
URL:https://lebanon-laclede.ploud.net/calendar-news/events/theater-thursda
 y-wish
END:VEVENT
BEGIN:VTIMEZONE
TZID:US/Central
X-LIC-LOCATION:US/Central
BEGIN:DAYLIGHT
DTSTART:20240310T030000
TZNAME:CDT
TZOFFSETFROM:-0600
TZOFFSETTO:-0500
END:DAYLIGHT
END:VTIMEZONE
END:VCALENDAR
