BEGIN:VCALENDAR
VERSION:2.0
PRODID:-//Plone.org//NONSGML plone.app.event//EN
X-WR-TIMEZONE:US/Central
BEGIN:VEVENT
SUMMARY:Trick or Treat in the Library
DTSTART;TZID=US/Central:20231031T080000
DTEND;TZID=US/Central:20231031T200000
DTSTAMP:20260421T125428Z
UID:09524c2ffe9b4327931cf90bb23470e7@saas_stack_varnish:6080
CREATED:20231017T171209Z
LAST-MODIFIED:20231017T172005Z
LOCATION:Lebanon-Laclede County Library
URL:https://lebanon-laclede.ploud.net/calendar-news/events/trick-or-treat-
 in-the-library
END:VEVENT
BEGIN:VTIMEZONE
TZID:US/Central
X-LIC-LOCATION:US/Central
BEGIN:DAYLIGHT
DTSTART:20230312T030000
TZNAME:CDT
TZOFFSETFROM:-0600
TZOFFSETTO:-0500
END:DAYLIGHT
END:VTIMEZONE
END:VCALENDAR
