BEGIN:VCALENDAR
VERSION:2.0
PRODID:-//Plone.org//NONSGML plone.app.event//EN
X-WR-TIMEZONE:US/Central
BEGIN:VEVENT
SUMMARY:Wonders of Wildlife: End of Summer Party
DTSTART;TZID=US/Central:20240730T100000
DTEND;TZID=US/Central:20240730T120000
DTSTAMP:20260421T220437Z
UID:1a057426a74e4558a4c07ca4b7289e53@saas_stack_varnish:6080
CREATED:20240629T161245Z
LAST-MODIFIED:20240629T161252Z
URL:https://lebanon-laclede.ploud.net/calendar-news/events/wonders-of-wild
 life-end-of-summer-party
END:VEVENT
BEGIN:VTIMEZONE
TZID:US/Central
X-LIC-LOCATION:US/Central
BEGIN:DAYLIGHT
DTSTART:20240310T030000
TZNAME:CDT
TZOFFSETFROM:-0600
TZOFFSETTO:-0500
END:DAYLIGHT
END:VTIMEZONE
END:VCALENDAR
