BEGIN:VCALENDAR
VERSION:2.0
PRODID:-//Plone.org//NONSGML plone.app.event//EN
X-WR-TIMEZONE:US/Central
BEGIN:VEVENT
SUMMARY:Wonders of Wildlife
DTSTART;TZID=US/Central:20250729T100000
DTEND;TZID=US/Central:20250729T110000
DTSTAMP:20260421T142636Z
UID:5e15f27f5bb0483bb3d80c3f4734f60e@saas_stack_varnish:6080
CREATED:20250512T191317Z
LAST-MODIFIED:20250512T191324Z
URL:https://lebanon-laclede.ploud.net/calendar-news/events/wonders-of-wild
 life
END:VEVENT
BEGIN:VTIMEZONE
TZID:US/Central
X-LIC-LOCATION:US/Central
BEGIN:DAYLIGHT
DTSTART:20250309T030000
TZNAME:CDT
TZOFFSETFROM:-0600
TZOFFSETTO:-0500
END:DAYLIGHT
END:VTIMEZONE
END:VCALENDAR
